BEGIN:VCALENDAR
VERSION:2.0
PRODID:-//Kirche Dortmund-Nordost - ECPv6.2.5//NONSGML v1.0//EN
CALSCALE:GREGORIAN
METHOD:PUBLISH
X-ORIGINAL-URL:https://www.kirche-dortmund-nordost.de
X-WR-CALDESC:Veranstaltungen für Kirche Dortmund-Nordost
REFRESH-INTERVAL;VALUE=DURATION:PT1H
X-Robots-Tag:noindex
X-PUBLISHED-TTL:PT1H
BEGIN:VTIMEZONE
TZID:Europe/Berlin
BEGIN:DAYLIGHT
TZOFFSETFROM:+0100
TZOFFSETTO:+0200
TZNAME:CEST
DTSTART:20250330T010000
END:DAYLIGHT
BEGIN:STANDARD
TZOFFSETFROM:+0200
TZOFFSETTO:+0100
TZNAME:CET
DTSTART:20251026T010000
END:STANDARD
END:VTIMEZONE
BEGIN:VEVENT
DTSTART;TZID=Europe/Berlin:20251109T170000
DTEND;TZID=Europe/Berlin:20251109T170000
DTSTAMP:20260423T121633
CREATED:20251008T174415Z
LAST-MODIFIED:20251008T174415Z
UID:10000307-1762707600-1762707600@www.kirche-dortmund-nordost.de
SUMMARY:Martinszug
DESCRIPTION:
URL:https://www.kirche-dortmund-nordost.de/terminkalender/martinszug/
LOCATION:St. Immaculata\, Westholz 40\, Dortmund\, 44328
ATTACH;FMTTYPE=image/png:https://www.kirche-dortmund-nordost.de/cms/wp-content/uploads/2025/10/Martinszug-Immaculata.png
ORGANIZER;CN="St. Immaculata":MAILTO:buero.immaculata-gemeinde@kirche-dortmund-nordost.de
END:VEVENT
END:VCALENDAR