BEGIN:VCALENDAR
VERSION:2.0
PRODID:-//Kirche Dortmund-Nordost - ECPv6.2.5//NONSGML v1.0//EN
CALSCALE:GREGORIAN
METHOD:PUBLISH
X-WR-CALNAME:Kirche Dortmund-Nordost
X-ORIGINAL-URL:https://www.kirche-dortmund-nordost.de
X-WR-CALDESC:Veranstaltungen für Kirche Dortmund-Nordost
REFRESH-INTERVAL;VALUE=DURATION:PT1H
X-Robots-Tag:noindex
X-PUBLISHED-TTL:PT1H
BEGIN:VTIMEZONE
TZID:Europe/Berlin
BEGIN:DAYLIGHT
TZOFFSETFROM:+0100
TZOFFSETTO:+0200
TZNAME:CEST
DTSTART:20250330T010000
END:DAYLIGHT
BEGIN:STANDARD
TZOFFSETFROM:+0200
TZOFFSETTO:+0100
TZNAME:CET
DTSTART:20251026T010000
END:STANDARD
END:VTIMEZONE
BEGIN:VEVENT
DTSTART;TZID=Europe/Berlin:20251221T160000
DTEND;TZID=Europe/Berlin:20251221T160000
DTSTAMP:20260419T155055
CREATED:20251101T125102Z
LAST-MODIFIED:20251101T125102Z
UID:10000313-1766332800-1766332800@www.kirche-dortmund-nordost.de
SUMMARY:Adventssingen
DESCRIPTION:
URL:https://www.kirche-dortmund-nordost.de/terminkalender/adventssingen/
LOCATION:St. Michael\, Michaelstr. 2\, Dortmund\, 44329
CATEGORIES:Advent und Weihnachten,Erwachsene und Senioren,Familien,Jugend und junge Menschen,Musik - Konzerte - Lieder
ATTACH;FMTTYPE=image/jpeg:https://www.kirche-dortmund-nordost.de/cms/wp-content/uploads/2022/10/MGV-Frohsinn-Lanstrop-Plakat-Adventssingen-2022-web-scaled.jpg
ORGANIZER;CN="MGV 'Frohsinn' 1881":MAILTO:Klaus.Westermann@frohsinn-lanstrop.de
END:VEVENT
END:VCALENDAR