BEGIN:VCALENDAR
VERSION:2.0
PRODID:-//Kirche Dortmund-Nordost - ECPv6.2.5//NONSGML v1.0//EN
CALSCALE:GREGORIAN
METHOD:PUBLISH
X-WR-CALNAME:Kirche Dortmund-Nordost
X-ORIGINAL-URL:https://www.kirche-dortmund-nordost.de
X-WR-CALDESC:Veranstaltungen für Kirche Dortmund-Nordost
REFRESH-INTERVAL;VALUE=DURATION:PT1H
X-Robots-Tag:noindex
X-PUBLISHED-TTL:PT1H
BEGIN:VTIMEZONE
TZID:Europe/Berlin
BEGIN:DAYLIGHT
TZOFFSETFROM:+0100
TZOFFSETTO:+0200
TZNAME:CEST
DTSTART:20250330T010000
END:DAYLIGHT
BEGIN:STANDARD
TZOFFSETFROM:+0200
TZOFFSETTO:+0100
TZNAME:CET
DTSTART:20251026T010000
END:STANDARD
BEGIN:DAYLIGHT
TZOFFSETFROM:+0100
TZOFFSETTO:+0200
TZNAME:CEST
DTSTART:20260329T010000
END:DAYLIGHT
BEGIN:STANDARD
TZOFFSETFROM:+0200
TZOFFSETTO:+0100
TZNAME:CET
DTSTART:20261025T010000
END:STANDARD
END:VTIMEZONE
BEGIN:VEVENT
DTSTART;TZID=Europe/Berlin:20260322T094500
DTEND;TZID=Europe/Berlin:20260322T094500
DTSTAMP:20260419T175830
CREATED:20260310T113846Z
LAST-MODIFIED:20260310T113846Z
UID:10000403-1774172700-1774172700@www.kirche-dortmund-nordost.de
SUMMARY:Kinderwortgottesdienst
DESCRIPTION:
URL:https://www.kirche-dortmund-nordost.de/terminkalender/kinderwortgottesdienst/
LOCATION:St. Johannes Baptista\, Werimboldstr. 8\, Dortmund\, 44319
CATEGORIES:Gottesdienste,Kinder
ORGANIZER;CN="St. Johannes Baptista":MAILTO:buero.joh-baptista-gemeinde@kirche-dortmund-nordost.de
END:VEVENT
BEGIN:VEVENT
DTSTART;TZID=Europe/Berlin:20251207T093000
DTEND;TZID=Europe/Berlin:20251207T160000
DTSTAMP:20260419T175830
CREATED:20241205T110419Z
LAST-MODIFIED:20251101T122250Z
UID:10000256-1765099800-1765123200@www.kirche-dortmund-nordost.de
SUMMARY:Weihnachtstreff in St. Johannes-Baptista
DESCRIPTION:
URL:https://www.kirche-dortmund-nordost.de/terminkalender/weihnachtstreff-in-st-johannes-baptista/
LOCATION:St. Johannes Baptista\, Werimboldstr. 8\, Dortmund\, 44319
CATEGORIES:Advent und Weihnachten,Erwachsene und Senioren,Familien,Jugend und junge Menschen
ATTACH;FMTTYPE=image/png:https://www.kirche-dortmund-nordost.de/cms/wp-content/uploads/2023/07/Weihnachtstreff-JB.png
ORGANIZER;CN="St. Johannes Baptista":MAILTO:buero.joh-baptista-gemeinde@kirche-dortmund-nordost.de
END:VEVENT
END:VCALENDAR