BEGIN:VCALENDAR
VERSION:2.0
PRODID:-//Kirche Dortmund-Nordost - ECPv6.2.5//NONSGML v1.0//EN
CALSCALE:GREGORIAN
METHOD:PUBLISH
X-WR-CALNAME:Kirche Dortmund-Nordost
X-ORIGINAL-URL:https://www.kirche-dortmund-nordost.de
X-WR-CALDESC:Veranstaltungen für Kirche Dortmund-Nordost
REFRESH-INTERVAL;VALUE=DURATION:PT1H
X-Robots-Tag:noindex
X-PUBLISHED-TTL:PT1H
BEGIN:VTIMEZONE
TZID:Europe/Berlin
BEGIN:DAYLIGHT
TZOFFSETFROM:+0100
TZOFFSETTO:+0200
TZNAME:CEST
DTSTART:20260329T010000
END:DAYLIGHT
BEGIN:STANDARD
TZOFFSETFROM:+0200
TZOFFSETTO:+0100
TZNAME:CET
DTSTART:20261025T010000
END:STANDARD
END:VTIMEZONE
BEGIN:VEVENT
DTSTART;TZID=Europe/Berlin:20260227T190000
DTEND;TZID=Europe/Berlin:20260227T213000
DTSTAMP:20260422T012354
CREATED:20251223T130754Z
LAST-MODIFIED:20251223T130849Z
UID:10000391-1772218800-1772227800@www.kirche-dortmund-nordost.de
SUMMARY:Wein & Bibel
DESCRIPTION:Bitte anmelden bei: \nStefan Wallek (s.wallek@kirche-dortmund-nordost.de) \noder \nThomas Janocha (t.janocha@kirche-dortmund-nordost.de) . \n 
URL:https://www.kirche-dortmund-nordost.de/terminkalender/wein-bibel-02/
LOCATION:St. Immaculata\, Westholz 40\, Dortmund\, 44328
CATEGORIES:Erwachsene und Senioren,Schriftgespräche
ATTACH;FMTTYPE=image/png:https://www.kirche-dortmund-nordost.de/cms/wp-content/uploads/2025/09/Wein-und-Bibel-1.png
ORGANIZER;CN="Pastoraler Raum Kirche Dortmund-Nordost":MAILTO:buero@kirche-dormund-nordost.de
END:VEVENT
BEGIN:VEVENT
DTSTART;TZID=Europe/Berlin:20260301T100000
DTEND;TZID=Europe/Berlin:20260301T150000
DTSTAMP:20260422T012354
CREATED:20251201T110300Z
LAST-MODIFIED:20251201T110300Z
UID:10000373-1772359200-1772377200@www.kirche-dortmund-nordost.de
SUMMARY:Frühlingsbasar
DESCRIPTION:Weitere Informationen folgen.
URL:https://www.kirche-dortmund-nordost.de/terminkalender/fruehlingsbasar/
LOCATION:Franziskus-Zentrum\, Gleiwitzstr. 281\, Dortmund\, 44328
CATEGORIES:Basar,Erwachsene und Senioren,Familien,Jugend und junge Menschen
ATTACH;FMTTYPE=image/png:https://www.kirche-dortmund-nordost.de/cms/wp-content/uploads/2025/12/Fruehlingsbasar-2026.png
ORGANIZER;CN="Franziskus-Gemeinde":MAILTO:buero.franziskus-gemeinde@kirche-dortmund-nordost.de
END:VEVENT
BEGIN:VEVENT
DTSTART;TZID=Europe/Berlin:20260301T170000
DTEND;TZID=Europe/Berlin:20260301T170000
DTSTAMP:20260422T012354
CREATED:20251201T115659Z
LAST-MODIFIED:20251201T115948Z
UID:10000381-1772384400-1772384400@www.kirche-dortmund-nordost.de
SUMMARY:Benedicat - Gesegnete Zeit
DESCRIPTION:Herzliche Einladung zum monatlichen Benedicat-Gottesdienst. \n \n 
URL:https://www.kirche-dortmund-nordost.de/terminkalender/benedicat-gesegnete-zeit_2026_03/
LOCATION:Dionysius-Kirche\, Grüggelsort 1\, Dortmund\, 44329
CATEGORIES:Benedicat,Gottesdienste
ATTACH;FMTTYPE=image/png:https://www.kirche-dortmund-nordost.de/cms/wp-content/uploads/2025/12/2026-03-Benedicat-Web.png
ORGANIZER;CN="Pastoraler Raum Kirche Dortmund-Nordost":MAILTO:buero@kirche-dormund-nordost.de
END:VEVENT
END:VCALENDAR