BEGIN:VCALENDAR
VERSION:2.0
PRODID:-//Kirche Dortmund-Nordost - ECPv6.2.5//NONSGML v1.0//EN
CALSCALE:GREGORIAN
METHOD:PUBLISH
X-WR-CALNAME:Kirche Dortmund-Nordost
X-ORIGINAL-URL:https://www.kirche-dortmund-nordost.de
X-WR-CALDESC:Veranstaltungen für Kirche Dortmund-Nordost
REFRESH-INTERVAL;VALUE=DURATION:PT1H
X-Robots-Tag:noindex
X-PUBLISHED-TTL:PT1H
BEGIN:VTIMEZONE
TZID:Europe/Berlin
BEGIN:DAYLIGHT
TZOFFSETFROM:+0100
TZOFFSETTO:+0200
TZNAME:CEST
DTSTART:20260329T010000
END:DAYLIGHT
BEGIN:STANDARD
TZOFFSETFROM:+0200
TZOFFSETTO:+0100
TZNAME:CET
DTSTART:20261025T010000
END:STANDARD
END:VTIMEZONE
BEGIN:VEVENT
DTSTART;TZID=Europe/Berlin:20260607T180000
DTEND;TZID=Europe/Berlin:20260607T180000
DTSTAMP:20260423T104723
CREATED:20260407T154406Z
LAST-MODIFIED:20260407T154406Z
UID:10000413-1780855200-1780855200@www.kirche-dortmund-nordost.de
SUMMARY:Benedicat - Gesegnete Zeit
DESCRIPTION:Herzliche Einladung zum monatlichen Benedicat-Gottesdienst. \n \n  \n 
URL:https://www.kirche-dortmund-nordost.de/terminkalender/benedicat-gesegnete-zeit-06/
LOCATION:Alte Körne\, Werimboldstraße
CATEGORIES:Benedicat,Gottesdienste
ATTACH;FMTTYPE=image/png:https://www.kirche-dortmund-nordost.de/cms/wp-content/uploads/2025/12/2026-06-Benedicat-Web.png
ORGANIZER;CN="Pastoraler Raum Kirche Dortmund-Nordost":MAILTO:buero@kirche-dormund-nordost.de
END:VEVENT
BEGIN:VEVENT
DTSTART;TZID=Europe/Berlin:20260620T100000
DTEND;TZID=Europe/Berlin:20260620T190000
DTSTAMP:20260423T104723
CREATED:20260419T065412Z
LAST-MODIFIED:20260419T170857Z
UID:10000414-1781949600-1781982000@www.kirche-dortmund-nordost.de
SUMMARY:(Pilger-) Radweg zum Sonnengesang des hl. Franziskus
DESCRIPTION:Sollten sich mehr Menschen dafür interessieren ist auch Eingenanreise und Treff in Salzkotten möglich. Details bitte mit den Ansprechpartnern klären.
URL:https://www.kirche-dortmund-nordost.de/terminkalender/pilger-radweg/
LOCATION:Franziskus-Zentrum\, Gleiwitzstr. 281\, Dortmund\, 44328
CATEGORIES:Erwachsene und Senioren,Projekte und Ausstellungen,Weiteres
ATTACH;FMTTYPE=image/png:https://www.kirche-dortmund-nordost.de/cms/wp-content/uploads/2026/03/Eine-Veranstaltung-im-Franziskus-Festjahr.png
ORGANIZER;CN="Franziskus-Gemeinde":MAILTO:buero.franziskus-gemeinde@kirche-dortmund-nordost.de
END:VEVENT
BEGIN:VEVENT
DTSTART;TZID=Europe/Berlin:20260628T093000
DTEND;TZID=Europe/Berlin:20260628T160000
DTSTAMP:20260423T104723
CREATED:20251202T123447Z
LAST-MODIFIED:20251202T123447Z
UID:10000383-1782639000-1782662400@www.kirche-dortmund-nordost.de
SUMMARY:Johannestreff
DESCRIPTION:Nähere Informationen folgen
URL:https://www.kirche-dortmund-nordost.de/terminkalender/johannestreff/
LOCATION:St. Johannes Baptista\, Werimboldstr. 8\, Dortmund\, 44319
CATEGORIES:Erwachsene und Senioren,Familien,Feste und Feiern
ATTACH;FMTTYPE=image/png:https://www.kirche-dortmund-nordost.de/cms/wp-content/uploads/2025/12/Johannestreff.png
ORGANIZER;CN="St. Johannes Baptista":MAILTO:buero.joh-baptista-gemeinde@kirche-dortmund-nordost.de
END:VEVENT
END:VCALENDAR