BEGIN:VCALENDAR
VERSION:2.0
PRODID:-//Kirche Dortmund-Nordost - ECPv6.2.5//NONSGML v1.0//EN
CALSCALE:GREGORIAN
METHOD:PUBLISH
X-ORIGINAL-URL:https://www.kirche-dortmund-nordost.de
X-WR-CALDESC:Veranstaltungen für Kirche Dortmund-Nordost
REFRESH-INTERVAL;VALUE=DURATION:PT1H
X-Robots-Tag:noindex
X-PUBLISHED-TTL:PT1H
BEGIN:VTIMEZONE
TZID:Europe/Berlin
BEGIN:DAYLIGHT
TZOFFSETFROM:+0100
TZOFFSETTO:+0200
TZNAME:CEST
DTSTART:20260329T010000
END:DAYLIGHT
BEGIN:STANDARD
TZOFFSETFROM:+0200
TZOFFSETTO:+0100
TZNAME:CET
DTSTART:20261025T010000
END:STANDARD
END:VTIMEZONE
BEGIN:VEVENT
DTSTART;TZID=Europe/Berlin:20260104T150000
DTEND;TZID=Europe/Berlin:20260104T163000
DTSTAMP:20260423T110007
CREATED:20251201T103236Z
LAST-MODIFIED:20251201T104346Z
UID:10000371-1767538800-1767544200@www.kirche-dortmund-nordost.de
SUMMARY:Benedicat - Gesegnete Zeit
DESCRIPTION:Herzliche Einladung zum monatlichen Benedicat-Gottesdienst. \n \n 
URL:https://www.kirche-dortmund-nordost.de/terminkalender/benedicat-gesegnete-zeit_2026_01/
LOCATION:St. Bonifatius\, Derner Str. 393a\, Dortmund\, 44329
CATEGORIES:Benedicat,Gottesdienste
ATTACH;FMTTYPE=image/png:https://www.kirche-dortmund-nordost.de/cms/wp-content/uploads/2025/12/2026-01-Benedicat-Web.png
ORGANIZER;CN="Pastoraler Raum Kirche Dortmund-Nordost":MAILTO:buero@kirche-dormund-nordost.de
END:VEVENT
BEGIN:VEVENT
DTSTART;TZID=Europe/Berlin:20260117T183000
DTEND;TZID=Europe/Berlin:20260117T183000
DTSTAMP:20260423T110007
CREATED:20251201T104742Z
LAST-MODIFIED:20260106T101103Z
UID:10000372-1768674600-1768674600@www.kirche-dortmund-nordost.de
SUMMARY:Ökumenischer Jahresanfang
DESCRIPTION:
URL:https://www.kirche-dortmund-nordost.de/terminkalender/oekumenischer-jahresanfang/
LOCATION:Schalom Zentrum\, Buschei 94\, Dortmund\, 44328
CATEGORIES:Erwachsene und Senioren,Gottesdienste,Jugend und junge Menschen,Ökumene
ATTACH;FMTTYPE=image/png:https://www.kirche-dortmund-nordost.de/cms/wp-content/uploads/2023/01/2023-01-18-Oekumene-Web.png
ORGANIZER;CN="Franziskus-Gemeinde und Schalom Bezirk":MAILTO:buero.franziskus-gemeinde@kirche-dortmund-nordost.de
END:VEVENT
BEGIN:VEVENT
DTSTART;TZID=Europe/Berlin:20260131T190000
DTEND;TZID=Europe/Berlin:20260131T213000
DTSTAMP:20260423T110007
CREATED:20251223T130511Z
LAST-MODIFIED:20251223T130732Z
UID:10000390-1769886000-1769895000@www.kirche-dortmund-nordost.de
SUMMARY:Wein & Bibel
DESCRIPTION:Bitte anmelden bei: \nStefan Wallek (s.wallek@kirche-dortmund-nordost.de) \noder \nThomas Janocha (t.janocha@kirche-dortmund-nordost.de) . \n 
URL:https://www.kirche-dortmund-nordost.de/terminkalender/wein-bibel-01/
LOCATION:St. Immaculata\, Westholz 40\, Dortmund\, 44328
CATEGORIES:Erwachsene und Senioren,Schriftgespräche
ATTACH;FMTTYPE=image/png:https://www.kirche-dortmund-nordost.de/cms/wp-content/uploads/2025/09/Wein-und-Bibel-1.png
ORGANIZER;CN="Pastoraler Raum Kirche Dortmund-Nordost":MAILTO:buero@kirche-dormund-nordost.de
END:VEVENT
END:VCALENDAR