BEGIN:VCALENDAR
VERSION:2.0
PRODID:-//Kirche Dortmund-Nordost - ECPv6.2.5//NONSGML v1.0//EN
CALSCALE:GREGORIAN
METHOD:PUBLISH
X-WR-CALNAME:Kirche Dortmund-Nordost
X-ORIGINAL-URL:https://www.kirche-dortmund-nordost.de
X-WR-CALDESC:Veranstaltungen für Kirche Dortmund-Nordost
REFRESH-INTERVAL;VALUE=DURATION:PT1H
X-Robots-Tag:noindex
X-PUBLISHED-TTL:PT1H
BEGIN:VTIMEZONE
TZID:Europe/Berlin
BEGIN:DAYLIGHT
TZOFFSETFROM:+0100
TZOFFSETTO:+0200
TZNAME:CEST
DTSTART:20260329T010000
END:DAYLIGHT
BEGIN:STANDARD
TZOFFSETFROM:+0200
TZOFFSETTO:+0100
TZNAME:CET
DTSTART:20261025T010000
END:STANDARD
END:VTIMEZONE
BEGIN:VEVENT
DTSTART;TZID=Europe/Berlin:20260705T094500
DTEND;TZID=Europe/Berlin:20260705T094500
DTSTAMP:20260423T135229
CREATED:20260310T114240Z
LAST-MODIFIED:20260310T114240Z
UID:10000406-1783244700-1783244700@www.kirche-dortmund-nordost.de
SUMMARY:Kinderwortgottesdienst
DESCRIPTION:
URL:https://www.kirche-dortmund-nordost.de/terminkalender/kinderwortgottesdienst-07/
LOCATION:St. Johannes Baptista\, Werimboldstr. 8\, Dortmund\, 44319
CATEGORIES:Gottesdienste,Kinder
ORGANIZER;CN="St. Johannes Baptista":MAILTO:buero.joh-baptista-gemeinde@kirche-dortmund-nordost.de
END:VEVENT
END:VCALENDAR