BEGIN:VCALENDAR
VERSION:2.0
PRODID:-//Kirche Dortmund-Nordost - ECPv6.2.5//NONSGML v1.0//EN
CALSCALE:GREGORIAN
METHOD:PUBLISH
X-WR-CALNAME:Kirche Dortmund-Nordost
X-ORIGINAL-URL:https://www.kirche-dortmund-nordost.de
X-WR-CALDESC:Veranstaltungen für Kirche Dortmund-Nordost
REFRESH-INTERVAL;VALUE=DURATION:PT1H
X-Robots-Tag:noindex
X-PUBLISHED-TTL:PT1H
BEGIN:VTIMEZONE
TZID:Europe/Berlin
BEGIN:DAYLIGHT
TZOFFSETFROM:+0100
TZOFFSETTO:+0200
TZNAME:CEST
DTSTART:20260329T010000
END:DAYLIGHT
BEGIN:STANDARD
TZOFFSETFROM:+0200
TZOFFSETTO:+0100
TZNAME:CET
DTSTART:20261025T010000
END:STANDARD
END:VTIMEZONE
BEGIN:VEVENT
DTSTART;TZID=Europe/Berlin:20260628T093000
DTEND;TZID=Europe/Berlin:20260628T160000
DTSTAMP:20260423T135229
CREATED:20251202T123447Z
LAST-MODIFIED:20251202T123447Z
UID:10000383-1782639000-1782662400@www.kirche-dortmund-nordost.de
SUMMARY:Johannestreff
DESCRIPTION:Nähere Informationen folgen
URL:https://www.kirche-dortmund-nordost.de/terminkalender/johannestreff/
LOCATION:St. Johannes Baptista\, Werimboldstr. 8\, Dortmund\, 44319
CATEGORIES:Erwachsene und Senioren,Familien,Feste und Feiern
ATTACH;FMTTYPE=image/png:https://www.kirche-dortmund-nordost.de/cms/wp-content/uploads/2025/12/Johannestreff.png
ORGANIZER;CN="St. Johannes Baptista":MAILTO:buero.joh-baptista-gemeinde@kirche-dortmund-nordost.de
END:VEVENT
END:VCALENDAR