BEGIN:VCALENDAR
VERSION:2.0
PRODID:-//Kirche Dortmund-Nordost - ECPv6.2.5//NONSGML v1.0//EN
CALSCALE:GREGORIAN
METHOD:PUBLISH
X-WR-CALNAME:Kirche Dortmund-Nordost
X-ORIGINAL-URL:https://www.kirche-dortmund-nordost.de
X-WR-CALDESC:Veranstaltungen für Kirche Dortmund-Nordost
REFRESH-INTERVAL;VALUE=DURATION:PT1H
X-Robots-Tag:noindex
X-PUBLISHED-TTL:PT1H
BEGIN:VTIMEZONE
TZID:Europe/Berlin
BEGIN:DAYLIGHT
TZOFFSETFROM:+0100
TZOFFSETTO:+0200
TZNAME:CEST
DTSTART:20250330T010000
END:DAYLIGHT
BEGIN:STANDARD
TZOFFSETFROM:+0200
TZOFFSETTO:+0100
TZNAME:CET
DTSTART:20251026T010000
END:STANDARD
END:VTIMEZONE
BEGIN:VEVENT
DTSTART;TZID=Europe/Berlin:20251228T150000
DTEND;TZID=Europe/Berlin:20251228T173000
DTSTAMP:20260425T123009
CREATED:20251015T142453Z
LAST-MODIFIED:20251103T145538Z
UID:10000310-1766934000-1766943000@www.kirche-dortmund-nordost.de
SUMMARY:Weihnachtliches MachMitKonzert
DESCRIPTION:Zum vierten Mal laden wir zum weihnachtlichen MachMitKonzert ein: \n \nWeihnachtliches Mitmachkonzert am 28.12.2025 \nMusikbegeisterte Menschen – die\, die gern singen und die\, die ein Instrument spielen – sind herzlich eingeladen zu einem weihnachtlichen Mitmachkonzert am 28.12.2025 in der Kirche der Franziskus-Gemeinde. Was darf erwartet werden? \nDen interessierten Instrumentalisten werden ab Mitte Dezember traditionelle und neuere weihnachtliche Lieder und Musik über die Möglichkeit des Online-Zugriffs für das Üben zuhause zur Verfügung gestellt. Alle „Musikanten“ treffen sich dann am 28.12.2025 um 15.00 Uhr (spielfertig) mit ihren Instrumenten\, um die Musik in der so zusammengekommenen Überraschungscombo miteinander anzuspielen. \nUm 16.15 Uhr kommen alle sangesfreudigen Menschen dazu\, um – unterstützt und begleitet durch die Instrumentalcombo – weihnachtliche Lieder zu singen oder auch instrumentaler Musik zu lauschen \nVor den Beginnzeiten wird jeweils Kaffee bereitgestellt\, und sicherlich wird sich auch etwas weihnachtliches Gebäck einfinden. \nInteressierte Instrumentalisten wenden sich bitte an Susanne Neumann\, Dorothe Schröder oder Georg Heßbrügge vom Trio-Organisationsteam\, damit ihnen ein Downloadlink persönlich überlassen werden kann. \nHerzliche Einladung zu dieser außergewöhnlichen  und sicher reizvollen musikalischen Mitmachaktion! \n 
URL:https://www.kirche-dortmund-nordost.de/terminkalender/weihnachtliches-machmitkonzert/
LOCATION:Franziskus-Zentrum\, Gleiwitzstr. 281\, Dortmund\, 44328
CATEGORIES:Musik - Konzerte - Lieder
ATTACH;FMTTYPE=image/png:https://www.kirche-dortmund-nordost.de/cms/wp-content/uploads/2025/10/Weihnachtliches-MachMitKonzert.png
ORGANIZER;CN="Franziskus-Gemeinde":MAILTO:buero.franziskus-gemeinde@kirche-dortmund-nordost.de
END:VEVENT
BEGIN:VEVENT
DTSTART;TZID=Europe/Berlin:20251228T170000
DTEND;TZID=Europe/Berlin:20251228T170000
DTSTAMP:20260425T123009
CREATED:20251203T154541Z
LAST-MODIFIED:20251203T154541Z
UID:10000385-1766941200-1766941200@www.kirche-dortmund-nordost.de
SUMMARY:Singen an der Krippe
DESCRIPTION:An den Adventsonntagen können Lieblings-Weihnachtslieder gewünscht werden.\nAnsprechpartner: Thekla Hendler und Henrik Motzkus
URL:https://www.kirche-dortmund-nordost.de/terminkalender/singen-an-der-krippe/
LOCATION:St. Michael\, Michaelstr. 2\, Dortmund\, 44329
CATEGORIES:Advent und Weihnachten,Musik
ORGANIZER;CN="St. Michael":MAILTO:buero.michael-gemeinde@kirche-dortmund-nordost.de
END:VEVENT
END:VCALENDAR