BEGIN:VCALENDAR
VERSION:2.0
PRODID:-//Kirche Dortmund-Nordost - ECPv6.2.5//NONSGML v1.0//EN
CALSCALE:GREGORIAN
METHOD:PUBLISH
X-ORIGINAL-URL:https://www.kirche-dortmund-nordost.de
X-WR-CALDESC:Veranstaltungen für Kirche Dortmund-Nordost
REFRESH-INTERVAL;VALUE=DURATION:PT1H
X-Robots-Tag:noindex
X-PUBLISHED-TTL:PT1H
BEGIN:VTIMEZONE
TZID:Europe/Berlin
BEGIN:DAYLIGHT
TZOFFSETFROM:+0100
TZOFFSETTO:+0200
TZNAME:CEST
DTSTART:20250330T010000
END:DAYLIGHT
BEGIN:STANDARD
TZOFFSETFROM:+0200
TZOFFSETTO:+0100
TZNAME:CET
DTSTART:20251026T010000
END:STANDARD
END:VTIMEZONE
BEGIN:VEVENT
DTSTART;TZID=Europe/Berlin:20251201T180000
DTEND;TZID=Europe/Berlin:20251224T180000
DTSTAMP:20260419T161335
CREATED:20251112T155207Z
LAST-MODIFIED:20251112T155457Z
UID:10000370-1764612000-1766599200@www.kirche-dortmund-nordost.de
SUMMARY:Begehbarer Adventskalender in St. Michael Dortmund-Lanstrop
DESCRIPTION:Auch in diesem Jahr wird es in Dortmund-Lanstrop wieder einen „Begehbaren Adventskalender“ geben. Der Adventweg führt an jedem Tag um 18.00 Uhr in eine andere Straße\, zu einem anderen Haus und auch immer wieder zu anderen Menschen. Vor den erleuchteten Fenstern werden Geschichten erzählt oder vorgelesen\, Lieder gesungen und Plätzchen verteilt. Alle sind herzlich eingeladen\, diesen Weg mitzugehen\, sich täglich oder an einzelnen Tagen vor einem geschmückten Fenster mit anderen Menschen zu treffen. Die Besucher/-innen werden gebeten\, möglichst eine eigene Tasse mitzubringen. \nDie Termine und Anschriften können den aushängenden Plakaten und Flyern sowie der Ausgabe Nr. 23/25 der Gemeindenachrichten (analog und online) entnommen werden.
URL:https://www.kirche-dortmund-nordost.de/terminkalender/begehbarer-adventskalender-in-st-michael-dortmund-lanstrop/
LOCATION:St. Michael\, Michaelstr. 2\, Dortmund\, 44329
CATEGORIES:Advent und Weihnachten,Erwachsene und Senioren,Feiern,Jugend und junge Menschen,Kinder
ORGANIZER;CN="St. Michael":MAILTO:buero.michael-gemeinde@kirche-dortmund-nordost.de
END:VEVENT
BEGIN:VEVENT
DTSTART;TZID=Europe/Berlin:20251205T190000
DTEND;TZID=Europe/Berlin:20251205T213000
DTSTAMP:20260419T161335
CREATED:20250909T112944Z
LAST-MODIFIED:20251201T121118Z
UID:10000302-1764961200-1764970200@www.kirche-dortmund-nordost.de
SUMMARY:Wein & Bibel
DESCRIPTION:Vorgeschmack auf das Weihnachtsfest \nBitte anmelden bei: \nStefan Wallek (s.wallek@kirche-dortmund-nordost.de) \noder \nThomas Janocha (t.janocha@kirche-dortmund-nordost.de) .
URL:https://www.kirche-dortmund-nordost.de/terminkalender/wein-bibel/
LOCATION:St. Immaculata\, Westholz 40\, Dortmund\, 44328
CATEGORIES:Erwachsene und Senioren,Schriftgespräche
ATTACH;FMTTYPE=image/png:https://www.kirche-dortmund-nordost.de/cms/wp-content/uploads/2025/09/Wein-und-Bibel-1.png
ORGANIZER;CN="Pastoraler Raum Kirche Dortmund-Nordost":MAILTO:buero@kirche-dormund-nordost.de
END:VEVENT
BEGIN:VEVENT
DTSTART;TZID=Europe/Berlin:20251206T063000
DTEND;TZID=Europe/Berlin:20251206T063000
DTSTAMP:20260419T161335
CREATED:20251105T144919Z
LAST-MODIFIED:20251105T145303Z
UID:10000314-1765002600-1765002600@www.kirche-dortmund-nordost.de
SUMMARY:Rorate Messen in der Petrus-Canisius-Gemeinde
DESCRIPTION:
URL:https://www.kirche-dortmund-nordost.de/terminkalender/rorate-messen-in-der-petrus-canisius-gemeinde/2025-12-06/
LOCATION:St. Petrus Canisius\, Kühlkamp 11\, Dortmund\, 44319
CATEGORIES:Erwachsene und Senioren,Familien,Gottesdienste,Jugend und junge Menschen
ATTACH;FMTTYPE=image/png:https://www.kirche-dortmund-nordost.de/cms/wp-content/uploads/2025/11/Rorate-Petrus-Canisius.png
ORGANIZER;CN="St. Petrus Canisius":MAILTO:buero.petrus-canisius-gemeinde@kirche-dortmund-nordost.de
END:VEVENT
END:VCALENDAR